BEGIN:VCALENDAR
VERSION:2.0
PRODID:-//farmsteadarts.org//NONSGML kigkonsult.se iCalcreator 2.30.10//
CALSCALE:GREGORIAN
METHOD:PUBLISH
UID:da1154ea-4024-4ca5-a1bb-3fc748aae3f9
X-WR-CALDESC:THANKS TO YOU! \n\nMember\, Volunteer\, and Patron Appreciatio
 n Day \nSunday\, December 3rd • 2 - 4pm \n\nJoin us as we offer thanks to 
 everyone who makes Farmstead Arts a special place. Meet\, mingle\, and enj
 oy light refreshments.
X-WR-RELCALID:b79e2e51de293751dd7c58bec32d8f1b
X-WR-TIMEZONE:America/New_York
BEGIN:VTIMEZONE
TZID:America/New_York
BEGIN:STANDARD
TZNAME:EST
DTSTART:20231105T020000
TZOFFSETFROM:-0400
TZOFFSETTO:-0500
RDATE:20241103T020000
END:STANDARD
BEGIN:DAYLIGHT
TZNAME:EDT
DTSTART:20230312T020000
TZOFFSETFROM:-0500
TZOFFSETTO:-0400
RDATE:20240310T020000
RDATE:20250309T020000
END:DAYLIGHT
END:VTIMEZONE
BEGIN:VEVENT
UID:a5846a7a-9404-49d8-92d7-21297008f6de
DTSTAMP:20260421T080658Z
DESCRIPTION:THANKS TO YOU! \n\nMember\, Volunteer\, and Patron Appreciation
  Day \nSunday\, December 3rd • 2 - 4pm \n\nJoin us as we offer thanks to e
 veryone who makes Farmstead Arts a special place. Meet\, mingle\, and enjo
 y light refreshments.
DTSTART;TZID=America/New_York:20231203T140000
DTEND;TZID=America/New_York:20231203T160000
LOCATION:450 King George Rd\, Basking Ridge\, NJ 07920
SUMMARY:Member\, Volunteer\, & Patron Appreciation Day
END:VEVENT
END:VCALENDAR
