BEGIN:VCALENDAR
VERSION:2.0
PRODID:-//farmsteadarts.org//NONSGML kigkonsult.se iCalcreator 2.30.10//
CALSCALE:GREGORIAN
METHOD:PUBLISH
UID:a2998567-562e-4e7f-b044-f2f347c40c20
X-WR-CALDESC:
X-WR-RELCALID:75d512ebe69d45e6a99e5f30277820d9
X-WR-TIMEZONE:America/New_York
BEGIN:VTIMEZONE
TZID:America/New_York
BEGIN:STANDARD
TZNAME:EST
DTSTART:20231105T020000
TZOFFSETFROM:-0400
TZOFFSETTO:-0500
RDATE:20241103T020000
END:STANDARD
BEGIN:DAYLIGHT
TZNAME:EDT
DTSTART:20230312T020000
TZOFFSETFROM:-0500
TZOFFSETTO:-0400
RDATE:20240310T020000
RDATE:20250309T020000
END:DAYLIGHT
END:VTIMEZONE
BEGIN:VEVENT
UID:b6e31989-1e54-4651-9c88-b3f40c94c524
DTSTAMP:20260421T092543Z
DESCRIPTION:
DTSTART;TZID=America/New_York:20231217T060000
DTEND;TZID=America/New_York:20231217T060001
LOCATION:
SUMMARY:Gallery Closed
END:VEVENT
END:VCALENDAR
