BEGIN:VCALENDAR
VERSION:2.0
PRODID:-//farmsteadarts.org//NONSGML kigkonsult.se iCalcreator 2.30.10//
CALSCALE:GREGORIAN
METHOD:PUBLISH
UID:8d52af8e-4f5a-4a9d-a752-385b80ac1c5d
X-WR-CALDESC:
X-WR-RELCALID:c335a2372048c70bc6dfa1b6df712894
X-WR-TIMEZONE:America/New_York
BEGIN:VTIMEZONE
TZID:America/New_York
BEGIN:STANDARD
TZNAME:EST
DTSTART:20231105T020000
TZOFFSETFROM:-0400
TZOFFSETTO:-0500
RDATE:20241103T020000
END:STANDARD
BEGIN:DAYLIGHT
TZNAME:EDT
DTSTART:20230312T020000
TZOFFSETFROM:-0500
TZOFFSETTO:-0400
RDATE:20240310T020000
RDATE:20250309T020000
END:DAYLIGHT
END:VTIMEZONE
BEGIN:VEVENT
UID:38a3b338-4f35-4231-9609-995de3393708
DTSTAMP:20260421T092653Z
DESCRIPTION:
DTSTART;TZID=America/New_York:20231222T110000
DTEND;TZID=America/New_York:20231222T140000
LOCATION:
SUMMARY:Public Hours
END:VEVENT
END:VCALENDAR
