BEGIN:VCALENDAR
VERSION:2.0
PRODID:-//farmsteadarts.org//NONSGML kigkonsult.se iCalcreator 2.30.10//
CALSCALE:GREGORIAN
METHOD:PUBLISH
UID:2a17cf2e-4aaa-45b5-b790-4c8d3bbd15be
X-WR-CALDESC:
X-WR-RELCALID:6294efb970c79083fbf53a8445e76222
X-WR-TIMEZONE:America/New_York
BEGIN:VTIMEZONE
TZID:America/New_York
BEGIN:STANDARD
TZNAME:EST
DTSTART:20231105T020000
TZOFFSETFROM:-0400
TZOFFSETTO:-0500
RDATE:20241103T020000
END:STANDARD
BEGIN:DAYLIGHT
TZNAME:EDT
DTSTART:20230312T020000
TZOFFSETFROM:-0500
TZOFFSETTO:-0400
RDATE:20240310T020000
RDATE:20250309T020000
END:DAYLIGHT
END:VTIMEZONE
BEGIN:VEVENT
UID:3116daf3-6164-40da-81f9-761d328ad6d3
DTSTAMP:20260419T142129Z
DESCRIPTION:
DTSTART;TZID=America/New_York:20231224T060000
DTEND;TZID=America/New_York:20231224T060001
LOCATION:
SUMMARY:Gallery Closed
END:VEVENT
END:VCALENDAR
