BEGIN:VCALENDAR
VERSION:2.0
PRODID:-//farmsteadarts.org//NONSGML kigkonsult.se iCalcreator 2.30.10//
CALSCALE:GREGORIAN
METHOD:PUBLISH
UID:0604485f-39d7-41ab-b2e3-db6c85148510
X-WR-CALDESC:
X-WR-RELCALID:e29c354e9aa410ea0ec490d7e4c4082a
X-WR-TIMEZONE:America/New_York
BEGIN:VTIMEZONE
TZID:America/New_York
BEGIN:STANDARD
TZNAME:EST
DTSTART:20231105T020000
TZOFFSETFROM:-0400
TZOFFSETTO:-0500
RDATE:20241103T020000
END:STANDARD
BEGIN:DAYLIGHT
TZNAME:EDT
DTSTART:20230312T020000
TZOFFSETFROM:-0500
TZOFFSETTO:-0400
RDATE:20240310T020000
RDATE:20250309T020000
END:DAYLIGHT
END:VTIMEZONE
BEGIN:VEVENT
UID:588fddc2-5f96-469b-b775-c9b19a733f5a
DTSTAMP:20260421T081223Z
DESCRIPTION:
DTSTART;TZID=America/New_York:20231231T060000
DTEND;TZID=America/New_York:20231231T060001
LOCATION:
SUMMARY:Gallery Closed
END:VEVENT
END:VCALENDAR
