BEGIN:VCALENDAR
VERSION:2.0
PRODID:-//farmsteadarts.org//NONSGML kigkonsult.se iCalcreator 2.30.10//
CALSCALE:GREGORIAN
METHOD:PUBLISH
UID:c994bf36-b2da-4158-bfc4-22f2deef8be6
X-WR-CALDESC:Fabio Mittino's 'Simple Music for Difficult People' features o
 riginal music for electric guitar\, described by the press as 'Progressive
 s Echoes for the Third Millennium'. \n\nIn 1998\, Fabio was introduced to 
 Robert Fripp's Guitar Craft in Salisbury\, UK\, and has continued studying
  with this technique ever since. Inspired by the craftsmanship and poetry 
 of Mechanical Art\, Mittino collaborated with some of the world's best Aut
 omata makers\, like François Junod (Switzerland)\, Keith Newstead (Cornwal
 l)\, Teun de Vijs (Netherlands) and Susumu & Hideki Higashino (Osaka\, Jap
 an).\n\nHis music mirrors the artistry and intricacy of those contemporary
  mechanical sculptures\, while retaining a mixture of innocent awe and won
 der.\n\nFree Registration with suggested donation at the door. Meet the mu
 sician and enjoy light refreshments after the show. \n
X-WR-RELCALID:795750bb2d839ee7b137db4406e7edbe
X-WR-TIMEZONE:America/New_York
BEGIN:VTIMEZONE
TZID:America/New_York
BEGIN:STANDARD
TZNAME:EST
DTSTART:20231105T020000
TZOFFSETFROM:-0400
TZOFFSETTO:-0500
RDATE:20241103T020000
END:STANDARD
BEGIN:DAYLIGHT
TZNAME:EDT
DTSTART:20230312T020000
TZOFFSETFROM:-0500
TZOFFSETTO:-0400
RDATE:20240310T020000
RDATE:20250309T020000
END:DAYLIGHT
END:VTIMEZONE
BEGIN:VEVENT
UID:122b99e1-6a69-4d45-9467-c834f63c8c2d
DTSTAMP:20260421T080302Z
DESCRIPTION:Fabio Mittino's 'Simple Music for Difficult People' features or
 iginal music for electric guitar\, described by the press as 'Progressives
  Echoes for the Third Millennium'. \n\nIn 1998\, Fabio was introduced to R
 obert Fripp's Guitar Craft in Salisbury\, UK\, and has continued studying 
 with this technique ever since. Inspired by the craftsmanship and poetry o
 f Mechanical Art\, Mittino collaborated with some of the world's best Auto
 mata makers\, like François Junod (Switzerland)\, Keith Newstead (Cornwall
 )\, Teun de Vijs (Netherlands) and Susumu & Hideki Higashino (Osaka\, Japa
 n).\n\nHis music mirrors the artistry and intricacy of those contemporary 
 mechanical sculptures\, while retaining a mixture of innocent awe and wond
 er.\n\nFree Registration with suggested donation at the door. Meet the mus
 ician and enjoy light refreshments after the show. \n
DTSTART;TZID=America/New_York:20240114T140000
DTEND;TZID=America/New_York:20240114T150000
LOCATION:450 King George Road\, Basking Ridge \, NJ 07920 US
SUMMARY:Fabio Mittino: Simple Music for Difficult People
END:VEVENT
END:VCALENDAR
