BEGIN:VCALENDAR
VERSION:2.0
PRODID:-//farmsteadarts.org//NONSGML kigkonsult.se iCalcreator 2.30.10//
CALSCALE:GREGORIAN
METHOD:PUBLISH
UID:867bdfb7-96ed-43f0-9d7a-ec0710d5c8f2
X-WR-CALDESC:
X-WR-RELCALID:ea1c4378174ca6e0bc5856c32512e265
X-WR-TIMEZONE:America/New_York
BEGIN:VTIMEZONE
TZID:America/New_York
BEGIN:STANDARD
TZNAME:EST
DTSTART:20231105T020000
TZOFFSETFROM:-0400
TZOFFSETTO:-0500
RDATE:20241103T020000
RDATE:20251102T020000
END:STANDARD
BEGIN:DAYLIGHT
TZNAME:EDT
DTSTART:20240310T020000
TZOFFSETFROM:-0500
TZOFFSETTO:-0400
RDATE:20250309T020000
RDATE:20260308T020000
END:DAYLIGHT
END:VTIMEZONE
BEGIN:VEVENT
UID:285253d6-d016-4f6a-a260-6a5853274ff7
DTSTAMP:20260421T082033Z
DESCRIPTION:
DTSTART;TZID=America/New_York:20241016T110000
DTEND;TZID=America/New_York:20241016T140000
LOCATION:450 King George Road\, Basking Ridge \, NJ 07920 US
SUMMARY:Gallery Hours
END:VEVENT
END:VCALENDAR
