BEGIN:VCALENDAR
VERSION:2.0
PRODID:-//farmsteadarts.org//NONSGML kigkonsult.se iCalcreator 2.30.10//
CALSCALE:GREGORIAN
METHOD:PUBLISH
UID:addd9c38-51ca-4e11-ade2-bf7bee959f0f
X-WR-CALDESC:
X-WR-RELCALID:0fd4f40b2a65b986f28dc9c4b218b52e
X-WR-TIMEZONE:America/New_York
BEGIN:VTIMEZONE
TZID:America/New_York
BEGIN:STANDARD
TZNAME:EST
DTSTART:20241103T020000
TZOFFSETFROM:-0400
TZOFFSETTO:-0500
RDATE:20251102T020000
END:STANDARD
BEGIN:DAYLIGHT
TZNAME:EDT
DTSTART:20240310T020000
TZOFFSETFROM:-0500
TZOFFSETTO:-0400
RDATE:20250309T020000
RDATE:20260308T020000
END:DAYLIGHT
END:VTIMEZONE
BEGIN:VEVENT
UID:48784ad0-da34-4cf4-bed1-cd448ee685b5
DTSTAMP:20260420T100200Z
DESCRIPTION:
DTSTART;TZID=America/New_York:20250213T060000
DTEND;TZID=America/New_York:20250213T060001
LOCATION:
SUMMARY:Gallery Closed
END:VEVENT
END:VCALENDAR
