BEGIN:VCALENDAR
VERSION:2.0
PRODID:-//farmsteadarts.org//NONSGML kigkonsult.se iCalcreator 2.30.10//
CALSCALE:GREGORIAN
METHOD:PUBLISH
UID:d1f4779b-2111-4c0d-ae6d-23b194107b59
X-WR-CALDESC:
X-WR-RELCALID:b8ba8fe06393d3ed6e425b11a588e58a
X-WR-TIMEZONE:America/New_York
BEGIN:VTIMEZONE
TZID:America/New_York
BEGIN:STANDARD
TZNAME:EST
DTSTART:20241103T020000
TZOFFSETFROM:-0400
TZOFFSETTO:-0500
RDATE:20251102T020000
END:STANDARD
BEGIN:DAYLIGHT
TZNAME:EDT
DTSTART:20250309T020000
TZOFFSETFROM:-0500
TZOFFSETTO:-0400
RDATE:20260308T020000
END:DAYLIGHT
END:VTIMEZONE
BEGIN:VEVENT
UID:ffdf4a13-5be8-4a48-b67e-f1bdc558470f
DTSTAMP:20260424T031834Z
DESCRIPTION:
DTSTART;TZID=America/New_York:20250426T130000
DTEND;TZID=America/New_York:20250426T160000
LOCATION:Farmstead Members Juried Art Exhibition
SUMMARY:Art Show Reception
END:VEVENT
END:VCALENDAR
