BEGIN:VCALENDAR
VERSION:2.0
PRODID:-//farmsteadarts.org//NONSGML kigkonsult.se iCalcreator 2.30.10//
CALSCALE:GREGORIAN
METHOD:PUBLISH
UID:794bd0bd-4566-4a50-b7bc-8902bb07a6d7
X-WR-CALDESC:An art exhibition featuring the beautiful works of artists fro
 m Matheny's Arts Access Program. On display from November 10th - December 
 15th.
X-WR-RELCALID:9092ed050b901717ddb649dcc277a3c2
X-WR-TIMEZONE:America/New_York
BEGIN:VTIMEZONE
TZID:America/New_York
BEGIN:STANDARD
TZNAME:EST
DTSTART:20241103T020000
TZOFFSETFROM:-0400
TZOFFSETTO:-0500
RDATE:20251102T020000
END:STANDARD
BEGIN:DAYLIGHT
TZNAME:EDT
DTSTART:20240310T020000
TZOFFSETFROM:-0500
TZOFFSETTO:-0400
RDATE:20250309T020000
RDATE:20260308T020000
END:DAYLIGHT
END:VTIMEZONE
BEGIN:VEVENT
UID:3d504dbe-d6b3-4f0a-a0da-da38500b9b20
DTSTAMP:20260421T081223Z
DESCRIPTION:An art exhibition featuring the beautiful works of artists from
  Matheny's Arts Access Program. On display from November 10th - December 1
 5th.
DTSTART;TZID=America/New_York:20241127T110000
DTEND;TZID=America/New_York:20241127T140000
LOCATION:450 King George Road\, Basking Ridge \, NJ 07920 US
SUMMARY:Gallery Hours: Matheny's Arts Access
END:VEVENT
END:VCALENDAR
