BEGIN:VCALENDAR
VERSION:2.0
PRODID:-//farmsteadarts.org//NONSGML kigkonsult.se iCalcreator 2.30.10//
CALSCALE:GREGORIAN
METHOD:PUBLISH
UID:a2540405-bba5-4762-9a3b-eb06c97a8413
X-WR-CALDESC:Art exhibition featuring the beautiful works of the artists fr
 om Matheny's Arts Access Program. On diplay from November 10th - December 
 15th.
X-WR-RELCALID:841192b2ee6ffd0488e856520d618bba
X-WR-TIMEZONE:America/New_York
BEGIN:VTIMEZONE
TZID:America/New_York
BEGIN:STANDARD
TZNAME:EST
DTSTART:20241103T020000
TZOFFSETFROM:-0400
TZOFFSETTO:-0500
RDATE:20251102T020000
END:STANDARD
BEGIN:DAYLIGHT
TZNAME:EDT
DTSTART:20240310T020000
TZOFFSETFROM:-0500
TZOFFSETTO:-0400
RDATE:20250309T020000
RDATE:20260308T020000
END:DAYLIGHT
END:VTIMEZONE
BEGIN:VEVENT
UID:0c5f00b4-7c7f-4075-8842-6dd86da9b4b2
DTSTAMP:20260421T092858Z
DESCRIPTION:Art exhibition featuring the beautiful works of the artists fro
 m Matheny's Arts Access Program. On diplay from November 10th - December 1
 5th.
DTSTART;TZID=America/New_York:20241215T130000
DTEND;TZID=America/New_York:20241215T160000
LOCATION:450 King George Road\, Basking Ridge \, NJ 07920 US
SUMMARY:Gallery Hours: Matheny's Arts Access
END:VEVENT
END:VCALENDAR
