BEGIN:VCALENDAR
VERSION:2.0
PRODID:-//farmsteadarts.org//NONSGML kigkonsult.se iCalcreator 2.30.10//
CALSCALE:GREGORIAN
METHOD:PUBLISH
UID:796f76d7-4d2c-42fa-b6c5-c8a5ede10b88
X-WR-CALDESC:
X-WR-RELCALID:0a24e54bb8feaa16e13a8057c38f2d8d
X-WR-TIMEZONE:America/New_York
BEGIN:VTIMEZONE
TZID:America/New_York
BEGIN:STANDARD
TZNAME:EST
DTSTART:20251102T020000
TZOFFSETFROM:-0400
TZOFFSETTO:-0500
RDATE:20261101T020000
END:STANDARD
BEGIN:DAYLIGHT
TZNAME:EDT
DTSTART:20260308T020000
TZOFFSETFROM:-0500
TZOFFSETTO:-0400
RDATE:20270314T020000
END:DAYLIGHT
END:VTIMEZONE
BEGIN:VEVENT
UID:c3e5a9f6-f669-4ab7-addd-66f31a5a2ce2
DTSTAMP:20260425T024327Z
DESCRIPTION:
DTSTART;TZID=America/New_York:20260405T060000
DTEND;TZID=America/New_York:20260405T060001
LOCATION:
SUMMARY:Gallery Closed
END:VEVENT
END:VCALENDAR
