BEGIN:VCALENDAR
VERSION:2.0
PRODID:-//farmsteadarts.org//NONSGML kigkonsult.se iCalcreator 2.30.10//
CALSCALE:GREGORIAN
METHOD:PUBLISH
UID:047c3929-8219-428b-91a8-383904571bf8
X-WR-CALDESC:
X-WR-RELCALID:588150121ebd15b6dd3ea7e37e26def7
X-WR-TIMEZONE:America/New_York
BEGIN:VTIMEZONE
TZID:America/New_York
BEGIN:STANDARD
TZNAME:EST
DTSTART:20251102T020000
TZOFFSETFROM:-0400
TZOFFSETTO:-0500
RDATE:20261101T020000
END:STANDARD
BEGIN:DAYLIGHT
TZNAME:EDT
DTSTART:20260308T020000
TZOFFSETFROM:-0500
TZOFFSETTO:-0400
RDATE:20270314T020000
END:DAYLIGHT
END:VTIMEZONE
BEGIN:VEVENT
UID:d14014e0-ce96-404d-94b1-c9e93dda9268
DTSTAMP:20260424T070229Z
DESCRIPTION:
DTSTART;TZID=America/New_York:20260426T130000
DTEND;TZID=America/New_York:20260426T160000
LOCATION:
SUMMARY:Gallery Hours
END:VEVENT
END:VCALENDAR
