BEGIN:VCALENDAR
VERSION:2.0
PRODID:-//farmsteadarts.org//NONSGML kigkonsult.se iCalcreator 2.30.10//
CALSCALE:GREGORIAN
METHOD:PUBLISH
UID:8b71c8c5-3ba9-46bb-be12-88cc23e2f57b
X-WR-CALDESC:
X-WR-RELCALID:fff779cc71d1ed3190789dbf2c259e20
X-WR-TIMEZONE:America/New_York
BEGIN:VTIMEZONE
TZID:America/New_York
BEGIN:STANDARD
TZNAME:EST
DTSTART:20251102T020000
TZOFFSETFROM:-0400
TZOFFSETTO:-0500
RDATE:20261101T020000
RDATE:20271107T020000
END:STANDARD
BEGIN:DAYLIGHT
TZNAME:EDT
DTSTART:20260308T020000
TZOFFSETFROM:-0500
TZOFFSETTO:-0400
RDATE:20270314T020000
END:DAYLIGHT
END:VTIMEZONE
BEGIN:VEVENT
UID:8be9ff84-a70b-4468-8634-b4795a99deea
DTSTAMP:20260420T150150Z
DESCRIPTION:
DTSTART;TZID=America/New_York:20260529T193000
DTEND;TZID=America/New_York:20260529T223000
LOCATION:450 King George Road\, Basking Ridge\, NJ 07920 US
SUMMARY:Theater 'Pygmalion'
END:VEVENT
END:VCALENDAR
